BEGIN:VCALENDAR
VERSION:2.0
PRODID:www.stappen-shoppen.nl
BEGIN:VEVENT
UID:stappen-shoppen.nl/entity/69e61d3b3001856c7f0449c0
DTSTAMP:20260422T010047Z
ORGANIZER;CN=:MAILTO:
DTSTART:20260612T150000Z
DTEND:20260612T200000Z
URL:https://www.hellozuidas.com/ical/69e61d3b3001856c7f0449c0
SUMMARY:TrueTribe ZuidasRun  @Gershwinplein 
DESCRIPTION:Are you ready to run? Op 12 juni vindt de 16e editie van de TrueTribe Zuidas Run plaats. 
END:VEVENT
END:VCALENDAR

